BEGIN:VCALENDAR
VERSION:2.0
PRODID:-//wp-events-plugin.com//7.2.3.1//EN
TZID:Europe/Berlin
X-WR-TIMEZONE:Europe/Berlin
BEGIN:VEVENT
UID:262@hofmarkt-zapf.de
DTSTART;TZID=Europe/Berlin;VALUE=DATE:20251224
DTEND;TZID=Europe/Berlin;VALUE=DATE:20251225
DTSTAMP:20251127T194857Z
URL:https://www.hofmarkt-zapf.de/events/urlaub/
SUMMARY:Urlaub
DESCRIPTION:Urlaub vom 24.12.2025 - 12.01.2026\nAb 13.01.2026 sind wir wide
 r da!
END:VEVENT
BEGIN:VTIMEZONE
TZID:Europe/Berlin
X-LIC-LOCATION:Europe/Berlin
BEGIN:STANDARD
DTSTART:20251026T020000
TZOFFSETFROM:+0200
TZOFFSETTO:+0100
TZNAME:CET
END:STANDARD
END:VTIMEZONE
END:VCALENDAR