BEGIN:VCALENDAR
VERSION:2.0
PRODID:-//wp-events-plugin.com//7.2.3.1//EN
TZID:Europe/Berlin
X-WR-TIMEZONE:Europe/Berlin
BEGIN:VEVENT
UID:256@hofmarkt-zapf.de
DTSTART;TZID=Europe/Berlin:20250919T110000
DTEND;TZID=Europe/Berlin:20250919T140000
DTSTAMP:20250711T170853Z
URL:https://www.hofmarkt-zapf.de/events/dampfnudeln-33/
SUMMARY:Dampfnudeln
DESCRIPTION:
END:VEVENT
BEGIN:VTIMEZONE
TZID:Europe/Berlin
X-LIC-LOCATION:Europe/Berlin
BEGIN:DAYLIGHT
DTSTART:20250330T030000
TZOFFSETFROM:+0100
TZOFFSETTO:+0200
TZNAME:CEST
END:DAYLIGHT
END:VTIMEZONE
END:VCALENDAR